BEGIN:VCALENDAR
VERSION:2.0
PRODID:-//eventon.com NONSGML v1.0//EN
CALSCALE:GREGORIAN
METHOD:PUBLISH
BEGIN:VEVENT
UID:69e945c61d8d1
DTSTAMP:20260422T220350Z
DTSTART:20260510T073000Z
DTEND:20260510T103000Z
LOCATION:
SUMMARY:Atelier de peinture acrylique pour adultes
DESCRIPTION:Description de l&rsquo;événement : Un atelier de peinture acr
 ylique pour adultes est proposé à l’atelier de l’Ourse à Andenne. Il
  s’agit d’un temps de pratique en atelier\,  sous forme de pratique lib
 re accompagnée : chacun travaille à son rythme\,  sur ses envies ou ses p
 rojets\,  avec un accompagnement individuel. L’atelier[..]\nhttps://www.a
 ndenne.be/events/atelier-de-peinture-acrylique-pour-adultes/var/ri-3.l-L1
URL:https://www.andenne.be/events/atelier-de-peinture-acrylique-pour-adultes/var/ri-3.l-L1
END:VEVENT
END:VCALENDAR