BEGIN:VCALENDAR
VERSION:2.0
PRODID:-//eventon.com NONSGML v1.0//EN
CALSCALE:GREGORIAN
METHOD:PUBLISH
BEGIN:VEVENT
UID:69ecd01ce996e
DTSTAMP:20260425T143052Z
DTSTART:20270414T070000Z
DTEND:20270414T120000Z
LOCATION:
SUMMARY:Permanence de la Cité des Métiers à Andenne
DESCRIPTION:Depuis 2025\,  la Cité des Métiers de Namur tient une permane
 nce mensuelle à la Maison de l’Emploi d’Andenne\,  en collaboration av
 ec le Forem et le Service Emploi et Insertion socio-professionnelle de la V
 ille. Cette permanence est destinée aux personnes en questionnement sur le
 ur orientation ou leur projet professionnel. Une conseillère[..]\nhttps://
 www.andenne.be/events/permanence-de-la-cite-des-metiers-de-namur-a-andenne/
 var/ri-16.l-L1
URL:https://www.andenne.be/events/permanence-de-la-cite-des-metiers-de-namur-a-andenne/var/ri-16.l-L1
END:VEVENT
END:VCALENDAR